BEGIN:VCALENDAR
VERSION:2.0
PRODID:The City of Fargo Calendar
UID:5df2a084b367c83fba35b1cd@cityoffargo.com
BEGIN:VEVENT
DTSTAMP:2020-01-14T23:04:00.060Z
DTSTART:2020-01-25T00:00:00.000Z
DTEND:2020-01-25T01:00:00.000Z
SUMMARY:Nerf Night
DESCRIPTION:It's time to beat cabin fever and test your nerf skills. Prevision/accuracy practice, strategy, and finally a nerf showdown in the library! Pre-registration is required;  [register online](http://programregistration.library.fargond.gov/ "register online"). Registration will open on January 1st. Contact Sarah N. at [701.241.1495](tel:7012411495 "701.241.1495") with any questions.

URL:http://fargond.gov/news-events/calendar/event-detail?id=5df2a084b367c83fba35b1cd
X-ALT-DESC;FMTTYPE=text/html:<p>It's time to beat cabin fever and test your nerf skills. Prevision/accuracy practice, strategy, and finally a nerf showdown in the library! Pre-registration is required;  <a href="http://programregistration.library.fargond.gov/" title="register online">register online</a>. Registration will open on January 1st. Contact Sarah N. at <a href="tel:7012411495" title="701.241.1495">701.241.1495</a> with any questions.</p>

LOCATION:Dr. James Carlson Library 2801 32nd Avenue South Fargo, ND 58103
X-MICROSOFT-CDO-ALLDAYEVENT:false
END:VEVENT
END:VCALENDAR