BEGIN:VCALENDAR
VERSION:2.0
PRODID:The City of Fargo Calendar
UID:61e864b1506d883d5874ab67@cityoffargo.com
BEGIN:VEVENT
DTSTAMP:2022-01-19T19:21:13.354Z
DTSTART:2022-01-31T21:00:00.000Z
DTEND:2022-01-31T21:30:00.000Z
SUMMARY:Crafternoons (In-Person) - CANCELLED
DESCRIPTION:To provide a safe environment, Crafternoons will offer both in-person and take home options. Children up to age 12 are welcome to pre-register each week for one 45-minute session or a take home packet. Each week will feature a new craft - please note the same weekly craft will be offered at all sessions/locations and in the take home packets. Pre-registration is required for each week and begins each Monday. Please limit 1 adult per child or family. Limit 1 craft per person per week (either in person or take home). 

__Mondays,  January 24 - April 25 at Carlson Library__
Session 1: 3 to 3:45 p.m.
Session 2: 4 to 4:45 p.m.
Take Home Packet Pick Up Time: 3 to 4:45 p.m.

__Tuesdays,  January  25 - April 26 at Northport Library__
Session 1: 3 to 3:45 p.m.
Session 2: 4 to 4:45 p.m.
Take Home Packet Pick Up Time: 3 to 4:45 p.m.

Thank you to the Friends of the Fargo Public Library for their generous support of the Crafternoons program! For more information on this or any other library program, please call Children’s Services at [701.241.1495](tel:7012411495 "701.241.1495") or send [Children's Services](/contact-us?contact=593876645e40bbe6182faf75 "Children's Services") an email.
URL:http://fargond.gov/news-events/calendar/event-detail?id=61e864b1506d883d5874ab67
X-ALT-DESC;FMTTYPE=text/html:<p>To provide a safe environment, Crafternoons will offer both in-person and take home options. Children up to age 12 are welcome to pre-register each week for one 45-minute session or a take home packet. Each week will feature a new craft - please note the same weekly craft will be offered at all sessions/locations and in the take home packets. Pre-registration is required for each week and begins each Monday. Please limit 1 adult per child or family. Limit 1 craft per person per week (either in person or take home).</p>
<p><strong>Mondays,  January 24 - April 25 at Carlson Library</strong><br>
Session 1: 3 to 3:45 p.m.<br>
Session 2: 4 to 4:45 p.m.<br>
Take Home Packet Pick Up Time: 3 to 4:45 p.m.</p>
<p><strong>Tuesdays,  January  25 - April 26 at Northport Library</strong><br>
Session 1: 3 to 3:45 p.m.<br>
Session 2: 4 to 4:45 p.m.<br>
Take Home Packet Pick Up Time: 3 to 4:45 p.m.</p>
<p>Thank you to the Friends of the Fargo Public Library for their generous support of the Crafternoons program! For more information on this or any other library program, please call Children’s Services at <a href="tel:7012411495" title="701.241.1495">701.241.1495</a> or send <a href="/contact-us?contact=593876645e40bbe6182faf75" title="Children's Services">Children's Services</a> an email.</p>

LOCATION:Dr. James Carlson Library 2801 32nd Avenue South Fargo, ND 58103
X-MICROSOFT-CDO-ALLDAYEVENT:false
END:VEVENT
END:VCALENDAR