BEGIN:VCALENDAR
VERSION:2.0
PRODID:The City of Fargo Calendar
UID:65679f65925e44bcdd1e6ad0@cityoffargo.com
BEGIN:VEVENT
DTSTAMP:2024-01-09T15:30:14.429Z
DTSTART:2024-06-18T13:00:00.000Z
DTEND:2024-06-18T14:00:00.000Z
SUMMARY:Historic Preservation Commission
DESCRIPTION:The City of Fargo's regularly scheduled Historic Preservation Commission meeting. [View the agenda and packet](/city-government/boards-commissions/historic-preservation-commission/agendas-minutes/2024-agendas-minutes "View the agenda and packet") for the upcoming meeting.
URL:http://fargond.gov/news-events/calendar/event-detail?id=65679f65925e44bcdd1e6ad0
X-ALT-DESC;FMTTYPE=text/html:<p>The City of Fargo's regularly scheduled Historic Preservation Commission meeting. <a href="/city-government/boards-commissions/historic-preservation-commission/agendas-minutes/2024-agendas-minutes" title="View the agenda and packet">View the agenda and packet</a> for the upcoming meeting.</p>

LOCATION:Fargo City Hall 225 4th Street North Fargo, ND 58102
X-MICROSOFT-CDO-ALLDAYEVENT:false
END:VEVENT
END:VCALENDAR