BEGIN:VCALENDAR
VERSION:2.0
PRODID:The City of Fargo Calendar
UID:692dd5e579b280ed532f0137@cityoffargo.com
BEGIN:VEVENT
DTSTAMP:2025-12-01T17:52:37.704Z
DTSTART:2026-04-18T20:00:00.000Z
DTEND:2026-04-18T21:00:00.000Z
SUMMARY:Spring Craft Series: Mini Book Making Session
DESCRIPTION:Get ready to celebrate National Library Week by making mini replicas of your favorite books.
URL:http://fargond.gov/news-events/calendar/event-detail?id=692dd5e579b280ed532f0137
X-ALT-DESC;FMTTYPE=text/html:<p>Get ready to celebrate National Library Week by making mini replicas of your favorite books.</p>

LOCATION:Dr. James Carlson Library 2801 32nd Avenue South Fargo, ND 58103
X-MICROSOFT-CDO-ALLDAYEVENT:false
END:VEVENT
END:VCALENDAR